BEGIN:VCALENDAR
VERSION:2.0
PRODID:-//Seasons of Change, Inc. - ECPv6.15.20//NONSGML v1.0//EN
CALSCALE:GREGORIAN
METHOD:PUBLISH
X-ORIGINAL-URL:https://seasonsofchangeinc.com/site
X-WR-CALDESC:Events for Seasons of Change, Inc.
REFRESH-INTERVAL;VALUE=DURATION:PT1H
X-Robots-Tag:noindex
X-PUBLISHED-TTL:PT1H
BEGIN:VTIMEZONE
TZID:UTC
BEGIN:STANDARD
TZOFFSETFROM:+0000
TZOFFSETTO:+0000
TZNAME:UTC
DTSTART:20240101T000000
END:STANDARD
END:VTIMEZONE
BEGIN:VEVENT
DTSTART;TZID=UTC:20250417T150000
DTEND;TZID=UTC:20250417T190000
DTSTAMP:20260424T224106
CREATED:20250327T162826Z
LAST-MODIFIED:20250327T165013Z
UID:1547-1744902000-1744916400@seasonsofchangeinc.com
SUMMARY:Mrs. Tavian’s Birthday Bash and Giveaway in Arlington – Free Community Event!
DESCRIPTION:Birthday Bash and Giveaway Arlington – A Free Community Celebration!\nGet ready for an exciting day at the Birthday Bash and Giveaway Arlington\, a fun-filled community event hosted by Mrs. Tavian and Seasons of Change Inc. This is more than just a birthday celebration—it’s an opportunity to bring families\, friends\, and neighbors together for a joyful gathering full of exciting activities\, entertainment\, and giveaways. Our goal is to create a space where everyone feels welcome\, supported\, and part of something special. \nThis event is completely free and open to the public\, making it a fantastic way to enjoy a day out with loved ones. We’ll have a live DJ playing upbeat music\, delicious food for everyone to enjoy\, and an Easter egg hunt for kids\, adding a fun and festive touch for families with young children. In addition\, guests can participate in raffles with amazing prizes\, offering a chance to win something special while celebrating together. \nEvent Info:\n📅 Date: April 17\, 2025⏰ Time: 3:00 PM – 7:00 PM📍 Location: 2621 S. Cooper St\, Arlington\, TX 76015 \nAt Seasons of Change Inc.\, we believe in the power of community and the importance of bringing people together. Events like these help build lasting connections\, strengthen support networks\, and provide resources that can benefit families in Arlington and beyond. Whether you’re attending for the fun activities\, to meet new people\, or simply to be part of a heartwarming community celebration\, there’s something for everyone at this special event. \nSpace is limited\, and registration is required to participate in giveaways and activities. Don’t miss out on this fantastic day—Click here for free registration and secure your spot today! \nGather your family\, invite your friends\, and come celebrate with us at the Birthday Bash and Giveaway Arlington for an unforgettable afternoon filled with fun\, connection\, and community spirit. Mark your calendar and spread the word! We look forward to celebrating with you!
URL:https://seasonsofchangeinc.com/site/event/birthday-bash-giveaway-arlington/
LOCATION:Cooper St Venue\, 2621 S Cooper St.\, Arlington\, TX\, 76015
ATTACH;FMTTYPE=image/png:https://seasonsofchangeinc.com/site/wp-content/uploads/2025/03/rsz_arl_bb_english-1.png
ORGANIZER;CN="Tavian Harris":MAILTO:info@seasonsofchangeinc.com
END:VEVENT
END:VCALENDAR