BEGIN:VCALENDAR
VERSION:2.0
PRODID:-//Seasons of Change, Inc. - ECPv6.15.20//NONSGML v1.0//EN
CALSCALE:GREGORIAN
METHOD:PUBLISH
X-ORIGINAL-URL:https://seasonsofchangeinc.com/site
X-WR-CALDESC:Events for Seasons of Change, Inc.
REFRESH-INTERVAL;VALUE=DURATION:PT1H
X-Robots-Tag:noindex
X-PUBLISHED-TTL:PT1H
BEGIN:VTIMEZONE
TZID:UTC
BEGIN:STANDARD
TZOFFSETFROM:+0000
TZOFFSETTO:+0000
TZNAME:UTC
DTSTART:20240101T000000
END:STANDARD
END:VTIMEZONE
BEGIN:VEVENT
DTSTART;TZID=UTC:20250228T100000
DTEND;TZID=UTC:20250228T140000
DTSTAMP:20260425T103042
CREATED:20250210T160921Z
LAST-MODIFIED:20250210T160932Z
UID:1537-1740736800-1740751200@seasonsofchangeinc.com
SUMMARY:El Corazón de la Comunidad
DESCRIPTION:El Corazón de la Comunidad | The Heart of the Community \n📅 Fecha: 28 de febrero de 2025\n⏰ Hora: 10:00 AM – 2:00 PM\n📍 Ubicación: 2621 S Cooper St\, Arlington\, TX 76015 \n¡Únete a nosotros para El Corazón de la Comunidad\, un evento especial dedicado a apoyar a familias con niños pequeños y futuros padres! Las familias elegibles están invitadas a disfrutar un día con rifas\, actividades divertidas y recursos valiosos. \n🔹 ¿Quién puede asistir? \n\nFamilias con un hijo menor de 36 meses\nPadres expectantes\n\n📌 Detalles Importantes de Registro: \n\nFecha límite de inscripción: Miércoles\, 26 de febrero de 2025\nClase para Padres en Línea Obligatoria: Si tienes un hijo menor de 36 meses o estás esperando un bebé\, debes completar una clase para padres en línea para asistir al evento. La clase será el jueves\, 27 de febrero\, y recibirás un correo electrónico con el enlace el 26 de febrero.\n\n📍 Regístrate aquí: Inscribirse Ahora \n¡No te pierdas esta oportunidad de conectarte con tu comunidad y acceder a recursos útiles! Participa en emocionantes rifas\, interactúa con organizaciones locales y disfruta de un día lleno de apoyo\, diversión e información valiosa. Si eres un padre expectante o tienes un hijo menor de 36 meses\, este evento está diseñado para brindarte orientación\, asistencia y conexiones significativas para ayudarte en tu camino como padre. \nEn El Corazón de la Comunidad\, tendrás acceso a recursos esenciales\, incluyendo educación para padres\, apoyo en el desarrollo infantil y programas comunitarios diseñados para ayudar a las familias a prosperar. Habla con expertos\, haz preguntas y descubre nuevas oportunidades para apoyar el crecimiento y bienestar de tu hijo. \nAdemás de recibir información útil\, las familias tendrán la oportunidad de obtener artículos esenciales para bebés\, participar en actividades interactivas y conocer a otros padres en un ambiente cálido y acogedor. Nuestro objetivo es asegurarnos de que cada familia se sienta apoyada y empoderada con las herramientas necesarias para un futuro saludable y feliz. \nÚnete a nosotros para un día de aprendizaje\, alegría y conexión. ¡Juntos podemos construir una comunidad más fuerte y saludable para nuestros niños!
URL:https://seasonsofchangeinc.com/site/event/el-corazon-de-la-comunidad/
LOCATION:Cooper St Venue\, 2621 S Cooper St.\, Arlington\, TX\, 76015
ATTACH;FMTTYPE=image/png:https://seasonsofchangeinc.com/site/wp-content/uploads/2025/02/rsz_arlington_feb_event_spanish-1.png
END:VEVENT
END:VCALENDAR