BEGIN:VCALENDAR
VERSION:2.0
PRODID:-//Seasons of Change, Inc. - ECPv6.15.20//NONSGML v1.0//EN
CALSCALE:GREGORIAN
METHOD:PUBLISH
X-ORIGINAL-URL:https://seasonsofchangeinc.com/site
X-WR-CALDESC:Events for Seasons of Change, Inc.
REFRESH-INTERVAL;VALUE=DURATION:PT1H
X-Robots-Tag:noindex
X-PUBLISHED-TTL:PT1H
BEGIN:VTIMEZONE
TZID:UTC
BEGIN:STANDARD
TZOFFSETFROM:+0000
TZOFFSETTO:+0000
TZNAME:UTC
DTSTART:20190101T000000
END:STANDARD
END:VTIMEZONE
BEGIN:VEVENT
DTSTART;VALUE=DATE:20251217
DTEND;VALUE=DATE:20251220
DTSTAMP:20260424T072824
CREATED:20251119T082031Z
LAST-MODIFIED:20251119T142043Z
UID:1748-1765929600-1766188799@seasonsofchangeinc.com
SUMMARY:Seasons of Change Inc. Presents the 15th Annual Christmas Collaboganza
DESCRIPTION:Join the Arlington TX Free Christmas Giveaway!\n  \nSeasons of Change Inc. is proud to announce a major event. We bring significant holiday cheer to Arlington\, Texas. This is the $\text{15th}$ Annual Christmas Collaboganza. The event is a massive collaboration of Church and Community. It comes together to serve 25\,000 families across two states. Therefore\, this Arlington TX Free Christmas Giveaway offers essential supplies. It provides free toys\, clothing\, and household items. The event is specifically for eligible families in need. \n\nEvent Details and Eligibility\n  \n📅 Wednesday\, December 17th\, 2025 \n📅 Thursday\, December 18th\, 2025 \n📅 Friday\, December 19th\, 2025 \n⏰ Daily from 11:00 AM – 7 PM \n📍 2621 S. Cooper St. Arlington\, TX 76015. \n  \nSpecifically\, the event is reserved for Parents\, Legal Guardians\, Adoptive Parents of a child under 36 months\, and Expectant Parents. Virtual Parenting Class attendance is mandatory to attend the giveaway. \n  \nWhat Families Can Expect\n  \nFamilies who meet the criteria can expect generous resources. Items are free for the entire family. This includes toys to bring smiles to little ones. Clothing will help keep your family cozy. Household items will brighten up your home. Furthermore\, this Arlington TX Free Christmas Giveaway aims to alleviate financial stress during the holiday season. The event is a key part of our community support mission. \n  \nRegistration is Mandatory\n  \nThe event is entirely free to attend. However\, registration is required to secure your spot and receive supplies. Reserve your spot today using the Google Form link below. In conclusion\, due to the high demand and eligibility requirements\, please register promptly. Don’t miss this incredible Arlington TX Free Christmas Giveaway. \n➡️ Register Here: https://docs.google.com/forms/d/e/1FAIpQLSdPWyp1Z5H0XrtUC3S4rD9E4mrC-1qAC76a5ZpcNBOhR_dPdw/viewform
URL:https://seasonsofchangeinc.com/site/event/arlington-christmas-collaboganza-parents-2025/
LOCATION:Cooper St Venue\, 2621 S Cooper St.\, Arlington\, TX\, 76015
CATEGORIES:Families
ATTACH;FMTTYPE=image/jpeg:https://seasonsofchangeinc.com/site/wp-content/uploads/2025/11/7e562f2f78e1dbcf238fe4869c54c6d719bb3c11-1-1.jpg
END:VEVENT
BEGIN:VEVENT
DTSTART;VALUE=DATE:20251212
DTEND;VALUE=DATE:20251214
DTSTAMP:20260424T072824
CREATED:20251121T180027Z
LAST-MODIFIED:20251121T180051Z
UID:1758-1765497600-1765670399@seasonsofchangeinc.com
SUMMARY:Sorteo de Juguetes Gratis Houston TX | Seasons of Change y Dept. de Salud
DESCRIPTION:¡Únete al Sorteo de Juguetes Gratis Houston TX!\n  \nSeasons of Change Inc. se complace en anunciar una nueva colaboración. Nos asociamos con el Departamento de Salud de Houston. Traemos un Evento Comunitario Navideño especial a Houston\, Texas. Este Sorteo de Juguetes Gratis Houston TX está diseñado para difundir alegría. Proporciona apoyo esencial a las familias locales. Únete a este evento de dos días. Promete alegría y recursos para la comunidad. \n  \nDetalles del Evento y Diversión Festiva\n  \nEl evento se lleva a cabo el 📅 viernes 12 de diciembre\, de ⏰ 9 AM a 4 PM. Continúa el 📅 sábado 13 de diciembre\, de ⏰ 9 AM a 4 PM. La ubicación es 📍 Magnolia Community Center\, 7037 Capitol Street\, Houston\, Texas 77011. Las familias pueden esperar un ambiente acogedor. Específicamente\, estaremos regalando juguetes gratis. Esto es para dibujar sonrisas en los rostros de los niños. Además\, cada niño registrado obtendrá una foto impresa gratis con Papá Noel. \n  \nAsociación Comunitaria Esencial\n  \nEste esfuerzo de colaboración destaca nuestra misión principal. Seasons of Change Inc. se compromete a empoderar a las familias. Nos asociamos con organizaciones como el Departamento de Salud de Houston. Esta asociación maximiza nuestro impacto comunitario. Este Sorteo de Juguetes Gratis busca aliviar las cargas financieras. Creemos que cada niño merece unas fiestas alegres. La Directora Ejecutiva Tavian T. Harris se enorgullece de servir a Houston. \n  \nSe Requiere Registro para Asegurar Tu Lugar\n  \nLa asistencia a este maravilloso evento es gratuita. Sin embargo\, se requiere registro para participar. Esto garantiza que podamos gestionar los suministros de manera efectiva. Escanea el código QR o usa el enlace a continuación para registrarte. En conclusión\, ¡no te pierdas este solidario Sorteo de Juguetes Gratis Houston TX! \n➡️ Regístrate Aquí: https://docs.google.com/forms/d/e/1FAIpQLSedLXfnhQE1o2HHxZlebIBnYb5gW8NMx-LNi6SU-j0w4NlmSw/viewform
URL:https://seasonsofchangeinc.com/site/event/sorteo-de-juguetes-gratis-houston-tx-seasons-of-change-y-dept-de-salud/
LOCATION:Magnolia Community Center\, 7037 Capitol Street\, Houston\, Texas\, 77011\, United States
CATEGORIES:Families
ATTACH;FMTTYPE=image/png:https://seasonsofchangeinc.com/site/wp-content/uploads/2025/11/rsz_spanish-1.png
END:VEVENT
BEGIN:VEVENT
DTSTART;VALUE=DATE:20251212
DTEND;VALUE=DATE:20251214
DTSTAMP:20260424T072824
CREATED:20251121T175446Z
LAST-MODIFIED:20251121T175446Z
UID:1753-1765497600-1765670399@seasonsofchangeinc.com
SUMMARY:Free Toy Giveaway Houston TX | Seasons of Change & Health Dept.
DESCRIPTION:Join the Free Toy Giveaway Houston TX!\n  \nSeasons of Change Inc. is excited to announce a new collaboration. We partner with the Houston Health Department. We bring a special Christmas Community Event to Houston\, Texas. This Free Toy Giveaway Houston TX is designed to spread holiday cheer. It provides essential support to local families. Join us for this two-day event. It promises joy and resources for the community. \n  \nEvent Details and Festive Fun\n  \n📅 Friday\, December 12th \n⏰ 9 AM – 4 PM \n📅 Saturday\, December 13th \n⏰ 9 AM – 4 PM \n📍 Magnolia Community Center\, 7037 Capitol Street\, Houston\, Texas 77011 \n  \nFamilies can expect a welcoming atmosphere. Specifically\, we are giving away free toys. This is to bring smiles to children’s faces. Furthermore\, every registered child gets a free printed photo with Santa! \n  \nEssential Community Partnership\n  \nThis collaborative effort highlights our core mission. Seasons of Change Inc. is committed to empowering families. We partner with organizations like the Houston Health Department. This partnership maximizes our community impact. This Free Toy Giveaway Houston TX aims to alleviate financial burdens. We believe every child deserves a joyful holiday season. Executive Director Tavian T. Harris is proud to serve Houston. \n  \nRegistration is Required to Secure Your Spot at The Free Toy Giveaway\n  \nThis wonderful event is free to attend. However\, registration is required to participate. This ensures we can manage supplies effectively. Please scan the $\text{QR}$ code or use the link below to register. In conclusion\, don’t miss out on this supportive giveaway! \n➡️ Register Here: https://docs.google.com/forms/d/e/1FAIpQLSedLXfnhQE1o2HHxZlebIBnYb5gW8NMx-LNi6SU-j0w4NlmSw/viewform
URL:https://seasonsofchangeinc.com/site/event/houston-free-toy-giveaway-health-dept/
LOCATION:Magnolia Community Center\, 7037 Capitol Street\, Houston\, Texas\, 77011\, United States
CATEGORIES:Families
ATTACH;FMTTYPE=image/png:https://seasonsofchangeinc.com/site/wp-content/uploads/2025/11/rsz_english-1.png
END:VEVENT
BEGIN:VEVENT
DTSTART;VALUE=DATE:20251205
DTEND;VALUE=DATE:20251207
DTSTAMP:20260424T072824
CREATED:20251117T215053Z
LAST-MODIFIED:20251117T215053Z
UID:1745-1764892800-1765065599@seasonsofchangeinc.com
SUMMARY:Oklahoma City Christmas Giveaway Mothers & Babies SOC 15th Annual Collaboganza 2025
DESCRIPTION:Join the Oklahoma City Christmas Giveaway Mothers Event!\n  \nSeasons of Change Inc. is proud to bring holiday cheer to Oklahoma City. This is the $\text{15th}$ Annual Christmas Collaboganza. The event is a collaboration of Church and Community. It comes together to serve 25\,000 families across Oklahoma City and Texas. Therefore\, this free event focuses on Mothers with babies under $\text{36}$ months and Pregnant Mothers. This Oklahoma City Christmas Giveaway Mothers event offers essential support. \n  \nEvent Details and Eligibility\n  \n📅 Friday\, December 5th\, 2025 \n⏰ 12 PM – 6 PM \n📅 Saturday\, December 6th\, 2025 \n⏰ 9 AM – 12 PM \n📍 236 SE 59th St\, Oklahoma City\, OK 73129. \nSpecifically\, the event is only for Mothers with babies under 36 months and Pregnant Mothers. Virtual Parenting Class attendance is mandatory to attend the giveaway. \n  \nWhat Families Can Expect\n  \nFamilies can expect a wide array of free resources. Items include free toys\, clothing\, and household items. These are for the entire family. Furthermore\, this Oklahoma City Christmas Giveaway Mothers aims to alleviate financial burdens during the holidays. The event is designed to support the newest members of our community. Tavian T. Harris\, Executive Director\, leads the Seasons of Change Team. They look forward to serving the Oklahoma City community. \n  \nRegistration and Requirements\nThe event is entirely free. However\, registration is required to attend. Reserve your spot today to secure supplies. Registration is simple and quick. Register at the Google Form link below. Don’t miss out on this incredible Longview Christmas Toy Giveaway. In conclusion\, your registration helps us prepare and serve everyone efficiently. \n➡️ Register Here: https://docs.google.com/forms/d/e/1FAIpQLSerchJy1WQlu13WXAwG5ep3aoJBPREy22RCtn1evUJ9s7-fkg/viewform
URL:https://seasonsofchangeinc.com/site/event/oklahoma-city-christmas-giveaway-mothers-babies-soc-15th-annual-collaboganza-2025/
LOCATION:E 59th St. OKC\, 536 SE 59th St.\, Oklahoma City\, OK\, United States
CATEGORIES:Families
ATTACH;FMTTYPE=image/png:https://seasonsofchangeinc.com/site/wp-content/uploads/2025/11/OKC-OK_2025-SOC-Collaboganza-1.png
END:VEVENT
BEGIN:VEVENT
DTSTART;TZID=UTC:20251120T140000
DTEND;TZID=UTC:20251120T190000
DTSTAMP:20260424T072824
CREATED:20251121T182424Z
LAST-MODIFIED:20251121T182424Z
UID:1760-1763647200-1763665200@seasonsofchangeinc.com
SUMMARY:Mesquite TX Christmas Giveaway For Mothers & Babies Free Event Collaboganza 2025
DESCRIPTION:Join the Mesquite TX Christmas Giveaway Mothers Event!\n  \nSeasons of Change Inc. is proud to announce a major event. This is the $\text{15th}$ Annual Christmas Collaboganza. The event is part of a large collaboration. It serves $\text{25\,000}$ families across the state of Texas and Oklahoma City. Therefore\, this free event focuses on Mothers with babies under $\text{36}$ months and Pregnant Mothers. This Mesquite TX Christmas Giveaway Mothers event offers essential holiday support. \n  \nEvent Details and Eligibility\n  \nThe event will be held on 📅 Friday\, November 20th\, 2025. The time is ⏰ 2:00 PM – 7:00 PM. The location is 📍 3819 Towne Crossing Blvd\, Mesquite\, TX 75150. Specifically\, the event is reserved only for Mothers with babies under 36 months and Pregnant Mothers. Virtual Parenting Class attendance is mandatory to attend the giveaway. \n  \nWhat Families Can Expect\n  \nFamilies who meet the criteria can expect generous resources. Items are free for the entire family. This includes toys to bring smiles to little ones. Clothing will help keep your family warm. Furthermore\, household items will brighten up your home. This Mesquite TX Christmas Giveaway Mothers event aims to alleviate financial stress during the holiday season. The event is designed to support the newest members of our community. \n  \nRegistration and Requirements\n  \nThe event is completely free. However\, registration is required to attend. Reserve your spot today to secure supplies. Registration is simple and quick using this link https://docs.google.com/forms/d/e/1FAIpQLSerchJy1WQlu13WXAwG5ep3aoJBPREy22RCtn1evUJ9s7-fkg/viewform  \nDon’t miss out on this incredible Mesquite TX Christmas Giveaway Mothers. In conclusion\, registration and Virtual Parenting Class attendance are both mandatory to participate.
URL:https://seasonsofchangeinc.com/site/event/mesquite-tx-christmas-giveaway-for-mothers-babies-free-event-collaboganza-2025/
LOCATION:Towne Crossing Mesquite\, 3819 Towne Crossing Blvd\, Mesquite\, TX\, 75150\, United States
CATEGORIES:Families
ATTACH;FMTTYPE=image/png:https://seasonsofchangeinc.com/site/wp-content/uploads/2025/11/rsz_mesquite_tx_2025_soc_collaboganza-1.png
END:VEVENT
BEGIN:VEVENT
DTSTART;VALUE=DATE:20251114
DTEND;VALUE=DATE:20251116
DTSTAMP:20260424T072824
CREATED:20251117T212638Z
LAST-MODIFIED:20251117T213227Z
UID:1741-1763078400-1763251199@seasonsofchangeinc.com
SUMMARY:Longview Christmas Toy Giveaway | 15th Annual Collaboganza 2025
DESCRIPTION:Join the Longview Christmas Toy Giveaway!\n  \nSeasons of Change Inc. is proud to announce a major event. We bring holiday cheer to Longview\, Texas. This is the $\text{15th}$ Annual Christmas Collaboganza. This free event offers essential supplies. Therefore\, we are giving toys\, clothing\, and household items. These are for families in need. The event is a collaboration of Church and Community. It serves thousands of families across the state. This Longview Christmas Toy Giveaway will take place over two days. \n  \nEvent Details and Location\n  \n📅 Friday\, November 14\, 2025 \n⏰ 1:00 PM – 6:00 PM \n📅 Saturday\, November 15\, 2025 \n⏰ 9:00 AM – 12:00 PM \n📍 Bethel Temple of Longview\, 1400 S Mobberly Ave\, Longview\, TX 75602 \nBethel Temple Pastor Erick & Lady Jasmine Bowens will host. The event offers a positive atmosphere. It provides hope during the holiday season. \n  \nWhat Families Can Expect\n  \nFamilies can expect a wide array of free resources. This includes toys to bring smiles to children. Clothing will help keep your family warm. Furthermore\, household items will brighten up your home. Specifically\, this Longview Christmas Toy Giveaway aims to alleviate financial burdens. We provide support for parents and caregivers. Executive Director Tavian T. Harris and the Seasons of Change Team will be present. They look forward to serving the community. \n  \nRegistration is Required\n  \nThe event is entirely free. However\, registration is required to attend. Reserve your spot today to secure supplies. Registration is simple and quick. Register at the Google Form link below. Don’t miss out on this incredible Longview Christmas Toy Giveaway. In conclusion\, your registration helps us prepare and serve everyone efficiently. \n➡️ Register Here: https://docs.google.com/forms/d/e/1FAIpQLSe0RoiDnKKILc3toWfQmEEGP6WEEvtauK9MGh9EU3Gmh4iosA/viewform?pli=1
URL:https://seasonsofchangeinc.com/site/event/longview-christmas-collaboganza-giveaway-2025/
LOCATION:Bethel Temple Longview\, 1400 S. Mobberly Ave.\, Longview\, 75602\, United States
CATEGORIES:Families
ATTACH;FMTTYPE=image/jpeg:https://seasonsofchangeinc.com/site/wp-content/uploads/2025/11/Longview-2025-1.jpg
END:VEVENT
BEGIN:VEVENT
DTSTART;TZID=UTC:20250718T123000
DTEND;TZID=UTC:20250718T180000
DTSTAMP:20260424T072824
CREATED:20250710T223235Z
LAST-MODIFIED:20250710T223235Z
UID:1620-1752841800-1752861600@seasonsofchangeinc.com
SUMMARY:Community Baby Shower Longview TX - Free Event!
DESCRIPTION:Attend Our Community Baby Shower Longview TX!\n  \nSeasons of Change Inc. is excited to invite you to our upcoming Community Baby Shower Longview TX. This special event offers vital support for expecting parents and families with newborns in the Longview area. It is designed to provide essential baby items and valuable resources. Join us for this compassionate gathering. The event spans two days: 📅 July 18th from ⏰ 12 PM – 6 PM\, and 📅 July 19th from ⏰ 9 AM – 12 PM. The location is 📍 Bethel Temple\, 1400 S Mobberly Ave\, Longview\, TX 75602. \n  \nWhat to Expect at this Free Event\n  \nOur Community Baby Shower Longview TX is a completely free event. Attendees will receive crucial support. We are providing diapers\, wipes\, and many other baby essentials. This direct assistance aims to alleviate some financial burdens for new and expecting parents. The event also fosters community connection. It creates a supportive environment for families. You can connect with Seasons of Change Inc. representatives. Learn about our ongoing programs and services. \n  \nSupport for New Families in Longview\n  \nThis initiative reflects our core mission. Seasons of Change Inc. believes in strengthening families. We empower individuals facing transitions. New parenthood is a significant life change. We are dedicated to offering tangible help. This community baby shower directly addresses immediate needs. It also builds a foundation for long-term stability. Your participation helps us extend our reach. It shows support for parents in need. \n  \nRegister Today and Get More Information\n  \nFor more details\, text us. Our English information line is 682-289-0442. Registration is required to attend this free event. It ensures we have enough supplies for everyone. Please register now to secure your spot. Don’t miss out on this supportive Community Baby Shower Longview TX. \nRegister Here: https://docs.google.com/forms/d/e/1FAIpQLSecm-hmCqNG_gkD6ASk8e-bd0yxLPeDgZmS8h6VbAXOqgDg1w/viewform \nWe look forward to welcoming expecting and new parents. Join us for a supportive and resource-filled event.
URL:https://seasonsofchangeinc.com/site/event/community-baby-shower-longview-tx/
LOCATION:Bethel Temple Longview\, 1400 S. Mobberly Ave.\, Longview\, 75602\, United States
CATEGORIES:Families
ATTACH;FMTTYPE=image/jpeg:https://seasonsofchangeinc.com/site/wp-content/uploads/2025/07/longview-community-baby-shower-english-2025-1.jpg
END:VEVENT
BEGIN:VEVENT
DTSTART;TZID=UTC:20250612T150000
DTEND;TZID=UTC:20250612T190000
DTSTAMP:20260424T072824
CREATED:20250521T191256Z
LAST-MODIFIED:20250521T191624Z
UID:1607-1749740400-1749754800@seasonsofchangeinc.com
SUMMARY:Celebración Día del Padre Arlington TX - ¡Deportes con Papá!
DESCRIPTION:Seasons of Change Inc. se complace en anunciar. Presentamos nuestra próxima Celebración Día del Padre Arlington TX. Este emocionante evento está diseñado para honrar y apreciar a los padres. Es para nuestra querida comunidad. Esta reunión especial promete una tarde llena de diversión. Será para los papás y sus familias. Celebramos el papel invaluable que los padres desempeñan. Por lo tanto\, acompáñanos el 📅 jueves 12 de junio. La celebración será de ⏰ 3:00 PM a 7:00 PM. La ubicación es 📍 2621 S Cooper St\, Arlington\, TX 76015. Será una celebración verdaderamente inolvidable. \nQué Esperar en la Celebración Día del Padre Arlington TX\nNuestra Celebración Día del Padre Arlington TX garantiza una experiencia vibrante y atractiva para todos. De hecho\, prepárense para una tarde repleta de diversas actividades. Estas actividades están pensadas para brindar mucha alegría y fomentar la camaradería. Habrá música enérgica para crear el ambiente perfecto. Disfruten también de juegos interactivos. Están diseñados para una competencia amistosa. Una vibra positiva y acogedora llenará todo el espacio del evento. En resumen\, nuestro objetivo es crear momentos que fortalezcan genuinamente los lazos familiares. Ofrecemos una forma única de celebrar el Día del Padre. Todo esto sucede dentro de la comunidad local. \nRifas\, Actividades e Impacto Comunitario\nUn punto culminante clave de este evento es la oportunidad de ganar fantásticos premios. Participa en nuestras emocionantes rifas y en diversas actividades. Específicamente\, los asistentes tendrán una gran oportunidad de “anotar en grande” con papá. Podrán llevarse a casa regalos especiales. Estos son una muestra de nuestro sincero aprecio. Además\, esta Celebración Día del Padre Arlington TX es mucho más que un simple evento. Representa una oportunidad vital. Reconocemos el arduo trabajo\, la guía y el amor que los padres brindan cada día. Seasons of Change Inc. está comprometida con fomentar unidades familiares fuertes. También apoyamos el bienestar general de la comunidad. Por consiguiente\, esta celebración demuestra poderosamente esa misión principal. \nRegístrate y Obtén Más Información\nPara obtener más información detallada sobre el evento\, pueden enviar un mensaje de texto. Nuestra línea dedicada en español es 682-289-0479. Asimismo\, para asegurarnos de poder acomodar adecuadamente a todos los invitados\, les pedimos que se registren antes del 10 de junio. Esto nos ayuda a planificar eficazmente los juegos y las rifas. El registro es sencillo y rápido. Asegura tu lugar! \nRegístrate Aquí: https://docs.google.com/forms/d/e/1FAIpQLSeiA1yk-jliipszipnWdWmUdGy5si0-2XXnN8WKGeII9GYtVg/viewform \nEsperamos ansiosamente darles la bienvenida. Acompaña a tu familia en esta feliz ocasión. En conclusión\, hagamos de este Día del Padre un día verdaderamente memorable. Lleno de risas\, diversión y experiencias compartidas positivamente. Celebramos a los increíbles padres de Arlington\, TX.
URL:https://seasonsofchangeinc.com/site/event/celebracion-dia-del-padre-arlington-tx-deportes-con-papa/
LOCATION:Arlington Event\, 2621 S. COOPER ST.\, ARLINGTON\, TX\, 76015
CATEGORIES:Families
ATTACH;FMTTYPE=image/png:https://seasonsofchangeinc.com/site/wp-content/uploads/2025/05/Flyer-Spanish.png
END:VEVENT
BEGIN:VEVENT
DTSTART;TZID=UTC:20250612T150000
DTEND;TZID=UTC:20250612T190000
DTSTAMP:20260424T072824
CREATED:20250521T185040Z
LAST-MODIFIED:20250521T190824Z
UID:1598-1749740400-1749754800@seasonsofchangeinc.com
SUMMARY:Father's Day Celebration Arlington TX - Sportin' with Dad!
DESCRIPTION:Seasons of Change Inc. eagerly invites you. We proudly announce our Father’s Day Celebration Arlington TX. This exciting event honors fathers in our beloved community. It promises a truly fun-filled afternoon for dads and their families. We celebrate the invaluable role fathers play in our lives. Therefore\, mark your calendars for 📅 Thursday\, June 12th. The celebration will run from ⏰ 3:00 PM to 7:00 PM. Find us at 📍 2621 S Cooper St\, Arlington\, TX 76015. This event promises an unforgettable experience.\n \nWhat to Expect at the Celebration at SoC Father’s Day Celebration in Arlington TX\n\n\n\n\n\nOur Father’s Day Celebration Arlington TX ensures a lively and engaging experience for all. Indeed\, prepare for an afternoon packed with various activities. These activities are designed to bring immense joy and foster camaraderie. You can expect energetic music to set the perfect atmosphere. Interactive games will also be available for friendly competition. A positive and welcoming vibe will fill the entire event space. Ultimately\, we aim to create moments that genuinely strengthen family bonds. We offer a unique way to celebrate Father’s Day. All this takes place right within our local community. \n\n\n\nRaffles\, Activities\, and Community Impact\n\n\nA key highlight of this event is the chance to win fantastic prizes. Enjoy our exciting raffles and diverse activities. Specifically\, participants have a great opportunity to “score big” with dad. They can take home special gifts. These serve as a token of our sincere appreciation. Furthermore\, this Father’s Day Celebration Arlington TX is much more than just an event. It represents a vital opportunity. We acknowledge the hard work\, guidance\, and love that fathers provide daily. Seasons of Change Inc. is committed to fostering strong family units. We also support overall community well-being. Consequently\, this celebration powerfully demonstrates that core mission. \n\n\n\nRegister and Get More Information\n\n\nFor more detailed event information\, you can easily text us. Our dedicated English line is 682-289-0442. Moreover\, to ensure we can properly accommodate all guests\, please register before June 10th. This helps us effectively plan for games and raffles. Registration is both simple and quick. It secures your spot at this wonderful Father’s Day Celebration Arlington TX. \nRegister Here: https://forms.gle/YhRFh274rUwiLY5JA \nWe eagerly anticipate welcoming you and your family. Join us for this joyous occasion. In conclusion\, let’s make this Father’s Day a truly memorable one. It will be full of laughter\, fun\, and shared positive experiences. We celebrate the incredible fathers of Arlington\, TX.
URL:https://seasonsofchangeinc.com/site/event/fathers-day-celebration-arlington-tx-sportin-with-dad/
LOCATION:Arlington Event\, 2621 S. COOPER ST.\, ARLINGTON\, TX\, 76015
CATEGORIES:Families
ATTACH;FMTTYPE=image/png:https://seasonsofchangeinc.com/site/wp-content/uploads/2025/05/Flyer-English.png
END:VEVENT
BEGIN:VEVENT
DTSTART;TZID=UTC:20240607T150000
DTEND;TZID=UTC:20240607T190000
DTSTAMP:20260424T072824
CREATED:20240616T012347Z
LAST-MODIFIED:20240616T012347Z
UID:866-1717772400-1717786800@seasonsofchangeinc.com
SUMMARY:Party With Pops Celebration
DESCRIPTION:Happy Father’s Day!\nA Blessed to Give event. Come celebrate fathers all across Texas! \nWhat to expect: \n\nGifts just for Dad!\nFood\nRaffle\nFun\nMore…\n\n  \nRegister by clicking on the link below.
URL:https://seasonsofchangeinc.com/site/event/party-with-pops-celebration/
LOCATION:Arlington Event\, 2621 S. COOPER ST.\, ARLINGTON\, TX\, 76015
CATEGORIES:Families
ATTACH;FMTTYPE=image/png:https://seasonsofchangeinc.com/site/wp-content/uploads/2024/06/rsz_fathers_day-_english-1.png
END:VEVENT
BEGIN:VEVENT
DTSTART;VALUE=DATE:20240424
DTEND;VALUE=DATE:20240427
DTSTAMP:20260424T072824
CREATED:20240413T220102Z
LAST-MODIFIED:20240415T234604Z
UID:771-1713916800-1714175999@seasonsofchangeinc.com
SUMMARY:Blessed 2 Give Campaign | Free Diapers And Wipes
DESCRIPTION:Serving families with children up to 36 months and expectant parents across Texas. \n\nDiapers\nWipes\nBaby Furniture\nClothing\nHousehold Items\n\nWho Qualifies? \n\nFamilies with newborns\, infants\, and toddlers. (Up to 36 months)\nExpectant mothers and fathers. (Adults and teens)\nAdoptive parents (no age restrictions)\n\nText or call for more information: \n682.289.0479    682.289.0046 \n682.289.0031    682.289.0442 \n682.289.0439    682.289.0471 \n  \nClick here to register. 
URL:https://seasonsofchangeinc.com/site/event/blessed-2-give-campaign-free-diapers-and-wipes/
LOCATION:Grace Christian Center\, 820 Raynor Street\, El Paso\, Texas\, 79903
CATEGORIES:Families
ATTACH;FMTTYPE=image/jpeg:https://seasonsofchangeinc.com/site/wp-content/uploads/2024/04/B2GElPasoFlyer16x9.jpg
END:VEVENT
BEGIN:VEVENT
DTSTART;TZID=UTC:20200502T100000
DTEND;TZID=UTC:20200502T140000
DTSTAMP:20260424T072824
CREATED:20200427T125242Z
LAST-MODIFIED:20200427T131209Z
UID:440-1588413600-1588428000@seasonsofchangeinc.com
SUMMARY:Mommy & Me
DESCRIPTION:Please make an appointment to attend.
URL:https://seasonsofchangeinc.com/site/event/mommy-me/
LOCATION:Mommy & Me\, 1008 W. Main Street\, Arlington\, Texas\, 76013\, United States
CATEGORIES:Families
ORGANIZER;CN="Tavian Harris":MAILTO:info@seasonsofchangeinc.com
END:VEVENT
END:VCALENDAR