BEGIN:VCALENDAR
VERSION:2.0
PRODID:-//Seasons of Change, Inc. - ECPv6.15.20//NONSGML v1.0//EN
CALSCALE:GREGORIAN
METHOD:PUBLISH
X-ORIGINAL-URL:https://seasonsofchangeinc.com/site
X-WR-CALDESC:Events for Seasons of Change, Inc.
REFRESH-INTERVAL;VALUE=DURATION:PT1H
X-Robots-Tag:noindex
X-PUBLISHED-TTL:PT1H
BEGIN:VTIMEZONE
TZID:UTC
BEGIN:STANDARD
TZOFFSETFROM:+0000
TZOFFSETTO:+0000
TZNAME:UTC
DTSTART:20250101T000000
END:STANDARD
END:VTIMEZONE
BEGIN:VEVENT
DTSTART;TZID=UTC:20260226T010000
DTEND;TZID=UTC:20260226T140000
DTSTAMP:20260423T213342
CREATED:20260218T164923Z
LAST-MODIFIED:20260218T164923Z
UID:1784-1772067600-1772114400@seasonsofchangeinc.com
SUMMARY:Recursos para padres en Arlington TX | El Corazón de la Comunidad
DESCRIPTION:Seasons of Change Inc. le invita a “El Corazón de la Comunidad” \n¡Únase al evento El Corazón de la Comunidad en Arlington!\nSeasons of Change Inc. se enorgullece de presentar un día especial dedicado a nuestras familias locales. Este evento\, El Corazón de la Comunidad\, ofrece un espacio acogedor para recibir orientación y asistencia. Por lo tanto\, le invitamos a conectar con su comunidad y acceder a recursos vitales. Nuestra misión es asegurar que cada familia se sienta apoyada para un futuro saludable y feliz. \nDetalles del Evento y Ubicación\n– Fecha: Jueves\, 26 de febrero \n– Hora: 10:00 AM – 2:00 PM \n– Ubicación: 2621 S Cooper St\, Arlington\, TX 76015 \n¿Quién puede asistir?\nEste evento está diseñado específicamente para: \n– Futuros padres (embarazadas) \n– Familias con un bebé menor de 36 meses \n¿Qué pueden esperar las familias?\nLos asistentes disfrutarán de un día lleno de apoyo y celebración. Específicamente\, el evento contará con emocionantes rifas y actividades divertidas para todos. Podrá hablar con expertos sobre el desarrollo infantil y el crecimiento temprano. Además\, las familias tendrán la oportunidad de recibir artículos esenciales para el bebé y herramientas útiles para la crianza. Es una oportunidad perfecta para construir una comunidad más fuerte juntos. \nRequisitos Importantes de Registro\nEl registro es obligatorio para asistir a esta reunión gratuita. Para recibir el enlace de la clase de crianza en línea requerida\, debe registrarse antes de la fecha límite. La clase se llevará a cabo el jueves 27 de febrero\, y recibirá el enlace por correo electrónico el día 26. ¡No se pierda esta gran oportunidad en el evento El Corazón de la Comunidad! \n➡️ Regístrese Aquí: Enlace de Inscripción
URL:https://seasonsofchangeinc.com/site/event/el-corazon-de-la-comunidad-arlington-2025/
LOCATION:Cooper St Venue\, 2621 S Cooper St.\, Arlington\, TX\, 76015
ATTACH;FMTTYPE=image/png:https://seasonsofchangeinc.com/site/wp-content/uploads/2026/02/Recursos-para-padres-en-Arlington-TX-1.png
END:VEVENT
BEGIN:VEVENT
DTSTART;TZID=UTC:20260226T100000
DTEND;TZID=UTC:20260226T140000
DTSTAMP:20260423T213342
CREATED:20260218T163931Z
LAST-MODIFIED:20260218T165016Z
UID:1779-1772100000-1772114400@seasonsofchangeinc.com
SUMMARY:Heart of the Community Arlington TX Event
DESCRIPTION:Seasons of Change Inc. Invites You to “The Heart of the Community” \nJoin the Heart of the Community Arlington TX Event!\nSeasons of Change Inc. is excited to host a special day dedicated to our local families. This Heart of the Community Arlington TX Event provides a welcoming space for guidance and assistance. Therefore\, we invite you to connect with neighbors and access vital resources. Our mission is to ensure every family feels empowered for a happy future. \nEvent Details and Location\n– Date: Thursday\, February 26 \n– Time: 10:00 AM – 2:00 PM \n– Location: 2621 S Cooper St\, Arlington\, TX 76015 \nWho Can Attend?\nThis Heart of the Community Arlington TX Event is specifically designed for: \n– Expecting parents \n– Families with a child under 36 months \nWhat Families Can Expect\nAttendees will enjoy a day filled with support and celebration. Specifically\, the event features exciting raffles and fun activities for everyone. You can speak with experts about child development and early growth. Furthermore\, families may receive baby essentials and helpful parenting tools. This is a perfect opportunity to build a stronger\, healthier community together. \nImportant Registration Requirements\nRegistration is mandatory to attend this free gathering. To receive your link for the required online parenting class\, you must register by the deadline. This ensures we can provide the best possible support for your parenting journey. Don’t miss out on this high-impact Heart of the Community Arlington TX Event! \n➡️ Register Here: Sign Up Now
URL:https://seasonsofchangeinc.com/site/event/heart-of-the-community-arlington-2025/
LOCATION:Cooper St Venue\, 2621 S Cooper St.\, Arlington\, TX\, 76015
ATTACH;FMTTYPE=image/png:https://seasonsofchangeinc.com/site/wp-content/uploads/2026/02/heart-of-the-community-1.png
END:VEVENT
END:VCALENDAR