BEGIN:VCALENDAR
VERSION:2.0
PRODID:-//Seasons of Change, Inc. - ECPv6.15.20//NONSGML v1.0//EN
CALSCALE:GREGORIAN
METHOD:PUBLISH
X-ORIGINAL-URL:https://seasonsofchangeinc.com/site
X-WR-CALDESC:Events for Seasons of Change, Inc.
REFRESH-INTERVAL;VALUE=DURATION:PT1H
X-Robots-Tag:noindex
X-PUBLISHED-TTL:PT1H
BEGIN:VTIMEZONE
TZID:UTC
BEGIN:STANDARD
TZOFFSETFROM:+0000
TZOFFSETTO:+0000
TZNAME:UTC
DTSTART:20230101T000000
END:STANDARD
END:VTIMEZONE
BEGIN:VEVENT
DTSTART;TZID=UTC:20241212T133000
DTEND;TZID=UTC:20241212T143000
DTSTAMP:20260425T134756
CREATED:20241205T232954Z
LAST-MODIFIED:20241205T233147Z
UID:1503-1734010200-1734013800@seasonsofchangeinc.com
SUMMARY:14th Annual Christmas Ganza Fort Worth Oakmont
DESCRIPTION:Event Details:\nExperience the magic of the holiday season at the 14th Annual Christmas Ganza Fort Worth Oakmont\, an inspiring event dedicated to bringing joy\, resources\, and hope to families across the community. Held at Oakmont Elementary\, 6651 Oakmont Trail\, Fort Worth\, TX 76132\, this free event is hosted by Seasons of Change\, Inc.\, a trusted non-profit organization known for its unwavering commitment to supporting vulnerable families and individuals. \nThis much-anticipated event provides free toys\, clothing\, and household items to families in need\, ensuring they can celebrate the holidays with ease and dignity. By distributing these essential items\, Seasons of Change\, Inc. aims to reduce the financial challenges many families face during this time of year\, allowing them to focus on creating meaningful memories together. \nWhat sets the Christmas Ganza apart is its emphasis on community and collaboration. Local churches\, volunteers\, and organizations unite to make this event possible\, demonstrating the power of collective action and shared purpose. Attendees not only receive valuable resources but also experience a sense of connection and belonging that embodies the holiday spirit. \nThis year\, the 14th Annual Christmas Ganza Fort Worth Oakmont is expected to welcome thousands of families\, creating a ripple effect of generosity and kindness throughout the community. From the warm smiles of volunteers to the carefully chosen gifts and items\, every aspect of this event is designed to uplift and inspire. \nWhether you’re in need of assistance or simply looking to share in the joy and togetherness of the holidays\, the Christmas Ganza Oakmont is the perfect place to celebrate. Don’t miss this opportunity to be part of something truly special.
URL:https://seasonsofchangeinc.com/site/event/14th-annual-christmas-ganza-fort-worth-oakmont/
LOCATION:Oakmont Elementary\, 6651 Oakmont Trail\, Fort Worth\, TX\, 76132\, United States
ATTACH;FMTTYPE=image/jpeg:https://seasonsofchangeinc.com/site/wp-content/uploads/2024/12/Oakmont_FW-Collaboganza-2024_SOC-1.jpg
ORGANIZER;CN="Tavian Harris":MAILTO:info@seasonsofchangeinc.com
END:VEVENT
BEGIN:VEVENT
DTSTART;TZID=UTC:20241212T133000
DTEND;TZID=UTC:20241212T143000
DTSTAMP:20260425T134756
CREATED:20241205T233827Z
LAST-MODIFIED:20241205T234242Z
UID:1509-1734010200-1734013800@seasonsofchangeinc.com
SUMMARY:14th Annual Christmas Ganza Fort Worth Sidney
DESCRIPTION:Event Details:\nJoin us for the 14th Annual Christmas Ganza Fort Worth Sidney\, a joyful and inspiring event dedicated to spreading holiday cheer and meeting the needs of families in our community. This special event will be held at Sidney H. Poynter Elementary\, 521 Ashdale Dr.\, Fort Worth\, TX 76140\, and is proudly presented by Seasons of Change\, Inc.\, a non-profit organization with a mission to empower and support families across Texas and beyond. \nThe Christmas Ganza Sidney is a free event offering toys\, clothing\, and household items to families in need\, helping them experience the joy and magic of the holiday season without financial stress. These items are chosen with care to meet the unique needs of each family\, ensuring that everyone—adults and children alike—feels valued and supported. \nThis incredible event is made possible through the collaboration of churches\, volunteers\, and local organizations\, all coming together to serve others with love and compassion. The 14th Annual Christmas Ganza Fort Worth Sidney is about more than just giving away items—it’s about fostering a sense of community\, unity\, and hope during the holiday season. Families who attend will not only receive essential resources but also create lasting memories in an atmosphere filled with warmth and generosity. \nWith thousands of families expected to participate\, this event highlights the power of kindness and the impact that communities can make when they come together for a common purpose. From the smiling faces of volunteers to the thoughtfully curated gifts and items\, every moment of the Christmas Ganza Sidney is designed to uplift and inspire. \nMake this holiday season unforgettable by joining us at Sidney H. Poynter Elementary for the 14th Annual Christmas Ganza Fort Worth Sidney. Whether you’re attending to receive support or to celebrate with others\, this event promises to be a highlight of the season.
URL:https://seasonsofchangeinc.com/site/event/14th-annual-christmas-ganza-fort-worth-sidney/
LOCATION:Sidney H Poynter Elementary\, 521 Ashdale Dr.\, Fort Worth\, TX\, 76140\, United States
ATTACH;FMTTYPE=image/jpeg:https://seasonsofchangeinc.com/site/wp-content/uploads/2024/12/Poynter_FW-Collaboganza-2024_SOC.jpg
ORGANIZER;CN="Tavian Harris":MAILTO:info@seasonsofchangeinc.com
END:VEVENT
END:VCALENDAR