BEGIN:VCALENDAR
VERSION:2.0
PRODID:-//Seasons of Change, Inc. - ECPv6.15.20//NONSGML v1.0//EN
CALSCALE:GREGORIAN
METHOD:PUBLISH
X-WR-CALNAME:Seasons of Change, Inc.
X-ORIGINAL-URL:https://seasonsofchangeinc.com/site
X-WR-CALDESC:Events for Seasons of Change, Inc.
REFRESH-INTERVAL;VALUE=DURATION:PT1H
X-Robots-Tag:noindex
X-PUBLISHED-TTL:PT1H
BEGIN:VTIMEZONE
TZID:UTC
BEGIN:STANDARD
TZOFFSETFROM:+0000
TZOFFSETTO:+0000
TZNAME:UTC
DTSTART:20230101T000000
END:STANDARD
END:VTIMEZONE
BEGIN:VEVENT
DTSTART;TZID=UTC:20241210T150000
DTEND;TZID=UTC:20241210T200000
DTSTAMP:20260425T153108
CREATED:20241205T230023Z
LAST-MODIFIED:20241205T232050Z
UID:1495-1733842800-1733860800@seasonsofchangeinc.com
SUMMARY:14th Annual Christmas Ganza Mesquite
DESCRIPTION:14th Annual Christmas Ganza Mesquite\nEvent Details:\nCelebrate the holiday season by joining us for the 14th Annual Christmas Ganza Mesquite\, a truly heartwarming and impactful event that brings joy\, hope\, and essential resources to families in need. Hosted at 2200 Pioneer Rd\, Suite B\, Mesquite\, TX 75149\, this free event is presented by Seasons of Change\, Inc.\, a highly respected non-profit organization dedicated to empowering communities and uplifting families across Texas. \nThe Christmas Ganza is much more than just a giveaway—it’s a celebration of community\, compassion\, and the true spirit of the holidays. Families attending the event will have access to free toys\, clothing\, and household items designed to alleviate some of the financial burdens that can make the holiday season stressful for many. These items are carefully selected to meet the diverse needs of attendees\, ensuring that every family member—young and old—has the opportunity to feel the joy and warmth of the season. \nThis annual event is made possible through the dedicated efforts of local churches\, volunteers\, and community organizations\, all coming together with a shared mission to serve others. The Mesquite Christmas Ganza is expected to welcome thousands of families\, offering not only valuable resources but also a sense of belonging and support. By attending\, families will experience a festive atmosphere filled with generosity\, kindness\, and unity. \nThe 14th Annual Christmas Ganza Mesquite is a shining example of what can be accomplished when communities collaborate to make a positive impact. Whether you’re looking for assistance during the holidays or want to celebrate the season with others in your community\, this event promises to be an unforgettable experience. \nMark your calendar and make plans to join us in Mesquite for this incredible event. Together\, let’s celebrate the holidays with love\, generosity\, and hope for a brighter future.
URL:https://seasonsofchangeinc.com/site/event/14th-annual-christmas-ganza-mesquite/
LOCATION:220 Pioneer Rd\, Suite B Mesquite\, TX 75149\, 220 Pioneer Td\, Suite B\, Mesquite\, TX\, 75149\, United States
ATTACH;FMTTYPE=image/jpeg:https://seasonsofchangeinc.com/site/wp-content/uploads/2024/12/Mesquite-Collaboganza-2024_SOC.jpg
ORGANIZER;CN="Tavian Harris":MAILTO:info@seasonsofchangeinc.com
END:VEVENT
END:VCALENDAR