BEGIN:VCALENDAR
VERSION:2.0
PRODID:-//Seasons of Change, Inc. - ECPv6.15.20//NONSGML v1.0//EN
CALSCALE:GREGORIAN
METHOD:PUBLISH
X-ORIGINAL-URL:https://seasonsofchangeinc.com/site
X-WR-CALDESC:Events for Seasons of Change, Inc.
REFRESH-INTERVAL;VALUE=DURATION:PT1H
X-Robots-Tag:noindex
X-PUBLISHED-TTL:PT1H
BEGIN:VTIMEZONE
TZID:UTC
BEGIN:STANDARD
TZOFFSETFROM:+0000
TZOFFSETTO:+0000
TZNAME:UTC
DTSTART:20230101T000000
END:STANDARD
END:VTIMEZONE
BEGIN:VEVENT
DTSTART;TZID=UTC:20241114T090000
DTEND;TZID=UTC:20241114T160000
DTSTAMP:20260425T153236
CREATED:20241029T193120Z
LAST-MODIFIED:20241029T203731Z
UID:1467-1731574800-1731600000@seasonsofchangeinc.com
SUMMARY:Community Baby Shower
DESCRIPTION:Join Seasons of Change Inc. for our upcoming Community Baby Shower—a special event honoring and supporting expecting parents and parents of children under 12 months! At this three-day baby shower\, families in the Omaha community can receive essential items like diapers\, wipes\, and more\, all completely free of charge. The Community Baby Shower provides much-needed resources\, support\, and a welcoming space for families as they prepare for the arrival of their little ones. \nEvent Details: \n\nDates & Times:\nNovember 14: 9:00 a.m. – 4:00 p.m.\nNovember 15: 9:00 a.m. – 4:00 p.m.\nNovember 16: 9:30 a.m. – 12:00 p.m.\nLocation:\nNew Hope Apostolic Temple\n6124 N. 99th St\, Omaha\, NE 68134\n\nWhat You’ll Find at Our Community Baby Shower: Expecting and new parents can pick up a variety of essential baby items that ease the transition into parenthood. This includes diapers\, wipes\, and other necessary products for families with young children. Seasons of Change Inc.\, through our Blessed to Give program\, aims to support local families by offering these essentials\, so no parent has to worry about meeting their child’s basic needs. We understand that early parenthood can be financially challenging\, and our Community Baby Shower is here to help! \nWho Is Eligible? This event is open to all expecting parents and parents with children under 12 months of age. Seasons of Change Inc. is dedicated to fostering a supportive community\, and this event provides essential items to Omaha families at no cost\, helping them feel prepared and empowered. \nHow to Register:\nClick the link below to register for this event. Registration is required to ensure we can meet your family’s needs. \nRegister Here \nDon’t miss this wonderful opportunity to connect with Seasons of Change Inc. and our supportive community. You’ll receive essential items and the encouragement you need during this exciting and transformative time in your life.
URL:https://seasonsofchangeinc.com/site/event/community-baby-shower/
LOCATION:New Hope Apostolic Temple\, 6124 N. 99th St.\, Omaha\, NE\, 68134
ATTACH;FMTTYPE=image/png:https://seasonsofchangeinc.com/site/wp-content/uploads/2024/10/rsz_nebraska_14-16_eng_soc_1-1.png
END:VEVENT
END:VCALENDAR